Workbook

Sheet Summary
B4: 3.5.2.1: Revenue generated from advisory / R&D consultancy projects including Clinical trials during the year
B6: Sr.No. | C6: Summary | D6: Amount | E6: Rs.in Lacs
B7: 1 | C7: 2017-18 | D7: =+'2017-18'!G10 -> 188000 | E7: =+D7/100000 -> 1.88
B8: =+B7+1 -> 2 | C8: 2018-19 | D8: =+'2018-19'!G22 -> 8316420 | E8: =+D8/100000 -> 83.1642
B9: =+B8+1 -> 3 | C9: 2019-20 | D9: =+'2019-20'!G35 -> 16750671 | E9: =+D9/100000 -> 167.50671
B10: =+B9+1 -> 4 | C10: 2020-21 | D10: =+'2020-21'!G39 -> 18726243 | E10: =+D10/100000 -> 187.26243
B11: =+B10+1 -> 5 | C11: 2021-22 | D11: =+'2021-22'!G49 -> 23292716 | E11: =+D11/100000 -> 232.92716
C12: Total | D12: =+SUM(D7:D11) -> 67274049 | E12: =+SUM(E7:E11) -> 672.74049

Sheet 2021-22
C1: Revenue generated from advisory / R&D consultancy projects including Clinical trials during the year
C2: 3.5.2.1: Total amount generated from consultancy during the last year (INR in lakhs)
B4: Unit Name | C4: Name of the consultant | D4: Name of the Advisory /R&D consultancy/clinical trial project | E4: Consulting/Sponsoring agency with contact details | F4: Year | G4: Revenue generated
B5: AVBRH | C5: Ardent Clinical Reseach Srvices | D5: "A safety and efficacy of lipiodal ultra fluid in association with surgical glues during vascular embolization. A phase IV study." | E5: SIRO Clinpharm Pvt. Ltd. | F5: 2021-22 | G5: 162000
B6: AVBRH | C6: Bio ClinAarc Pvt. Ltd., Nagpur. | D6: "Randomized, Double-Blind, Placebo-Centrolled, Prospective Multicenter Trial to Validate the Safety and Efficacy of an Antiviral Drug Zingivir-H, in adults with asymptomatic, lild or moderate nCOVID-19 infection". | E6: Pankajakashtruri Herbal Research Foundation (PHRF), Pankajakasthuri Ayurvedic Medical College, Killi, Kattakada, Thiruvananthpuram, Kerala | F6: 2021-22 | G6: 100000
B7: AVBRH | C7: DiagnoSearch Life Sciences Pvt Ltd. | D7: "An open lebel, Randomized, Active-controlled, Multi-centric phase II/III study in Indian toddlers and infants yo asses the immunogenicity to SIIPL pentavac (DTwP-HepB-Hib) vaccine in comparison to SIIPL pentavac (DTwP-HepB-Hib) + Poliovac (IPV) vaccines adminstered as sepearation Injections." | E7: Serum Institute of india Pvt. Ltd.Pune | F7: 2021-22 | G7: 842300
B8: AVBRH | C8: GDD Experts India Pvt Ltd | D8: "A Phase III, Multi centre, Randomized, Double-Blind, Parallel-Arm, Placebo-Controlled maintance study of Mirikizumab in patient with Moderately to Severely active ulcerative colits." | E8: Eli Lilly and Company (India) Pvt. Ltd., Gurgaon Haryana | F8: 2021-22 | G8: 396076
B9: AVBRH | C9: AYUSH-CSIR | D9: "A Randomized, Open label, Parallel efficiency, Activecontrol , Multi-centre exploratory drug trial to evaluate efficeincy and safety of an ayurvedic formulation as adjunct treatment to standard of care for the management of mild to moderate Covid-19 patients" | E9: AYUSH-CSIR | F9: 2021-22 | G9: 520279
B10: AVBRH | C10: wardha Health care Pvt. Ltd. | D10: "A prospective mult-centre, open label phase IV study to evaluate safety and efficasy profile of InfimabTM in patients with moderate to severe plaque psoriasis." | E10: Reliance Life Sciences Pvt. Ltd. | F10: 2021-22 | G10: 133925
B11: AVBRH | C11: Ardent Clinical Research services | D11: "A Phase III Randomised, Multicenter, open label, parallel Groups, Non-inferiority study to evaluate the efficacy and safety of Dalbavancin in comaparison with comparator skin and skin structure infections (ABSSSIs)." | E11: Gufic Biosciences Ltd. | F11: 2021-22 | G11: 230995
B12: AVBRH | C12: GDD Experts India Pvt. Ltd. | D12: "A Randomized , open label 2- Treatment group clinical trial evaluating the efficacy and safety of 2-Deoxy-D-Glucose as an adjunctive therapy to standard of care, in comparison to standard of care alone, in the acute tratment of moderate to severe COVID-19 Patients." | E12: IQVIA RDS (India) Private Limited, Bangalore Dr. Reddys Laboratories Ltd. And Institute of Neclear Medicine and Allied Sciences (INMAS)_CVD-02-CD-002 | F12: 2021-22 | G12: 1035998
B13: AVBRH | C13: Bio ClinAarc Pvt. Ltd. | D13: "A Randomized doubleblind, parallel group, placebo-controlled, three arm, multicenter study to evaluate the efficacy and safety of estradiol vaginal inserts USP 10 mcg in healthy postmenopausal women with symptons of vulvar and vaginal atrophy [Group I (test): Estradiol vaginal inserts USP 10 mcg of aurobindo pharma Ltd. India; Group II (reference): Vagifem (estradiol vaginal inserts) 10mcg of Novo Nordisk Inc and Group USA Group III : Placebo]." | E13: AXIS Clinicals Ltd. | F13: 2021-22 | G13: 544124
B14: AVBRH | C14: Central Council for Research in Ayurvedic Sciences | D14: "A Randomised, Control trial to evaluate the efficacy of ayurvedic interventions (Agastya Haritaki and Ashwagandha) and Yoga in long term effects of COVID-19" | E14: Central Council for Research in Ayurvedic Sciences | F14: 2021-22 | G14: 2250071
B15: AVBRH | C15: GDD Experts India Pvt. Ltd., Nagpur. | D15: "A phase III Randomized, Double-Masked, Parellel Group, Multicenter Study to Compare the Efficacy, Safety, Tolerability, Pharmacokinetics and Immunogenicity between SCD411 and Eylea in Subjects with Neovascular Age-related Macular Degeneration". | E15: PPD Pharmaceutical Development India Private Limited, Andheri (East), Mumbai | F15: 2021-22 | G15: 743793
B16: AVBRH | C16: GDD Experts India Pvt Ltd | D16: "A Phase III, Multi centre, Randomized, Double-Blind, Parallel-Arm, Placebo-Controlled maintance study of Mirikizumab in patient with Moderately to Severely active ulcerative colits." | E16: Quintiles Research India Pvt Ltd | F16: 2021-22 | G16: 50103
... B48: DU Wardha | C48: Yeshwantrao Chavan College of Engineering | D48: A Multi-Layered 3D Printed Guided Periodontal Tissue Regeneration Membrane for Periodontal Regeneration | E48: YCCE | F48: 2021-22 | G48: 1500000
E49: Grant Total | G49: =SUM(G5:G48) -> 23292716

Sheet 2020-21
C1: Revenue generated from advisory / R&D consultancy projects including Clinical trials during the year
C2: 3.5.2.1: Total amount generated from consultancy during the last year (INR in lakhs)
B3: Unit Name | C3: Name of the Consultnacy | D3: Name of advisory / R&D consultancy/clinical trial project | E3: Consulting/Sponsoring agency with contact details | F3: Year | G3: Revenue generated | H3: Revenue generated (INR in Lakhs)
B4: AVBRH | C4: GDD Experts India Pvt Ltd | D4: A Phase III, Multi centre, Randomized, Double-Blind, Parallel, Placebo-Controlled Induction study of Mirikizumab in conventional-failed and Biologic-Failed Patients with Moderately to Severely active ulcerative colits. | E4: IQVIA RDS (India) Private Limited, | F4: 2020-21 | G4: 430673 | H4: =+G4/100000 -> 4.30673
B5: AVBRH | C5: GDD Experts India Pvt Ltd | D5: A Phase III, Multi centre, Randomized, Double-Blind, Parallel-Arm, Placebo-Controlled maintance study of Mirikizumab in patient with Moderately to Severely active ulcerative colits. | E5: Eli Lilly and Company (India) Pvt. Ltd., Gurgaon Haryana (GDD Expert Pvt. Ltd., Nagpur). | F5: 2020-21 | G5: 379141 | H5: =+G5/100000 -> 3.79141
B6: AVBRH | C6: GDD Experts India Pvt. Ltd. | D6: A Randomised, Double Blind, Parallel- Group, Multicentre, Phase III Study to Evaliate the Effect Of Ticagrelor Versus Placebo in Reducing the Rate of Vaso-Occlusive crises in Paediatric patients with sickle cell Disease (HESTIA3). | E6: Astrazenca AB | F6: 2020-21 | G6: 310409 | H6: =+G6/100000 -> 3.10409
B7: AVBRH | C7: GDD Experts India Pvt. Ltd. | D7: "A Randomised, Double Blind, Placebo-Controlled, Parallel- Group, Multicentre, Comparative study to assess the efficacy and safety of spores of Enterogermina in combinatin with oral rehydration therapy (ORT) and Zinc versus placebo in combination with ORT and Zinc administered for 5days in the treaetment of acute diarrhea in children." | E7: SANOFI SYNTHELABO(INDIA) PRIVATE LTD | F7: 2020-21 | G7: 22960 | H7: =+G7/100000 -> 0.2296
B8: AVBRH | C8: AstraZeneca | D8: D5136C00009“A Randomized, Double blind, Parallel group, Multicenter, phase 3 study to evaluate the effect of Ticagrelor versus placebo in reducing the rate of Vaso-Occlusive crisis in pediatric patients with Sickle Cell Disease (HESTIA3). | E8: Glenmark Pharmaceuticals Ltd | F8: 2020-21 | G8: 2007 | H8: =+G8/100000 -> 0.02007
B9: AVBRH | C9: Lipiodol® Ultra Fluid | D9: LUF-44-001 “Safety and Efficacy of Lipiodol® Ultra Fluid in Association with Surgical Glues during Vascular Embolization, a Phase IV study” | E9: Siro Clinpharm Pvt.Ltd. | F9: 2020-21 | G9: =44280 -> 44280 | H9: =+G9/100000 -> 0.4428
B10: AVBRH | C10: AYUSH CSR | D10: AYUSH-CSIR-TRT-01 : A Randomized, Open label, Parallel efficiency, Activecontrol , Multi-centre exploratory drug trial to evaluate efficeincy and safety of an ayurvedic formulation as adjunct treatment to standard of care for the management of mild to moderate Covid-19 patients | E10: RRI Ayurveda Nagpur | F10: 2020-21 | G10: =(3003465+500000) -> 3503465 | H10: =+G10/100000 -> 35.03465
B11: AVBRH | C11: ARDent Pharmaceutical Pvt. Ltd. | D11: TQJ230A12001 : Multi-center cross-sectional epidemiolgy study to characterize prevalence and distribution of lopoprotein (A) levels among patients with established cardiovascular disease. | E11: Novartis Healthcare Pvt. Ltd. | F11: 2020-21 | G11: =176400 -> 176400 | H11: =+G11/100000 -> 1.764
B12: AVBRH | C12: AYUSH- CDR | D12: AYUSH-CRD-HCW-01 : A study of Ashwagandha in prophylaxix against COVID-19 and its benefits on general health care workers: A randomized controlled comparision with Hydrochloroquine sulphate (HCQS) | E12: RRI Ayurveda Nagpur | F12: 2020-21 | G12: =(2654624+884873) -> 3539497 | H12: =+G12/100000 -> 35.39497
B13: AVBRH | C13: DiagnoSearch Life Sciences Pvt Ltd | D13: SII-wHEXA/IN-02: An Open label, Randomized, Active controlled, Multicentric phase II/III study in Indian Toddlers and Infants to Assess the Immunogenicity and Safety of SIIPL HEXASIILTM (DTwP-HepB-IPV-Hib) Vaccines in Comparison to SIIPL Pentavac (DTwP-HepB-Hib) + Poliovac (IPV) vaccines Administered as Separate Injection. | E13: DiagnoSearch Life Sciences Pvt Ltd | F13: 2020-21 | G13: =211138 -> 211138 | H13: =+G13/100000 -> 2.11138
B14: AVBRH | C14: Amgen Technology Private Limited. | D14: "A Multicenter, Multiple-dose, Active Controlled, Double-blind, Double-dummy study to compare the Therapeutic Efficacy and safety of oral doses of cinacalcet hydrochloride with intravenous doses of etelcacetide (AMG416) in Asian hemodialysis subjects with secondary Hyperparathyroidism." | E14: Amgen Technology Private Limited. | F14: 2020-21 | G14: =50000 -> 50000 | H14: =+G14/100000 -> 0.5
B15: AVBRH | C15: Indomethacin Study | D15: Indomethacin Study | E15: Indian Institute Of Technology, Chennai. ( Centre For Industrial Consultancy And Sponsored Research | F15: 2020-21 | G15: =259000 -> 259000 | H15: =+G15/100000 -> 2.59
B16: AVBRH | C16: Bio ClinAarc Pvt. Ltd. | D16: PHRF-011-2020: Randomized, Double-blind, Placebo-Controlled Prospective Multicenter trial to validate the Safety and Efficacy of an Antiviral drug Zingivir-H, in adults with asymptomatic, mild or moderate nCOVID-19 infection. | E16: Pankajakasthuri Herbal Research Foundation (PHRF), Bio ClinAarc Pvt. Ltd. | F16: 2020-21 | G16: =300000 -> 300000 | H16: =+G16/100000 -> 3
B17: DU Wardha | C17: AstraZeneca Pharma India Ltd. | D17: Consultancy on Ethics in clinical studies | E17: AstraZeneca Pharma India Ltd. | F17: 2020-21 | G17: 140000
B18: DU Wardha | C18: Axis Clinical Ltd | D18: Consultancy on Ethics in clinical studies | E18: Axis Clinical Ltd | F18: 2020-21 | G18: 75676
B19: DU Wardha | C19: Biospecimen Solutions Pvt Ltd | D19: Consultancy on Ethics in clinical studies | E19: Biospecimen Solutions Pvt Ltd | F19: 2020-21 | G19: 54054
B20: DU Wardha | C20: CBCC Global Reseach LLP | D20: Consultancy on Ethics in clinical studies | E20: CBCC Global Reseach LLP | F20: 2020-21 | G20: 54054
B21: DU Wardha | C21: CCRAS Ministryt of Ayush Govt of India | D21: Consultancy on Ethics in clinical studies | E21: CCRAS Ministryt of Ayush Govt of India | F21: 2020-21 | G21: 140000
B22: DU Wardha | C22: Diagnoseach Life Sciences Pvt Ltd | D22: Consultancy on Ethics in clinical studies | E22: Diagnoseach Life Sciences Pvt Ltd | F22: 2020-21 | G22: 54054
B23: DU Wardha | C23: Ecron Acunova Limited | D23: Consultancy on Ethics in clinical studies | E23: Ecron Acunova Limited | F23: 2020-21 | G23: 75002
B24: DU Wardha | C24: Eli Lilly & Co Pvt Ltd | D24: Consultancy on Ethics in clinical studies | E24: Eli Lilly & Co Pvt Ltd | F24: 2020-21 | G24: 75677
B25: DU Wardha | C25: Institute of Biology & Clinical Reseach | D25: Consultancy on Ethics in clinical studies | E25: Institute of Biology & Clinical Reseach | F25: 2020-21 | G25: 80000
B26: DU Wardha | C26: IQVIA RDS (India) Pvt Ltd | D26: Consultancy on Ethics in clinical studies | E26: IQVIA RDS (India) Pvt Ltd | F26: 2020-21 | G26: 108110
B27: DU Wardha | C27: Johnson & Johnson Pvt Ltd | D27: Consultancy on Ethics in clinical studies | E27: Johnson & Johnson Pvt Ltd | F27: 2020-21 | G27: 70000
B28: DU Wardha | C28: Jss Medical Reseach India Pvt Ltd | D28: Consultancy on Ethics in clinical studies | E28: Jss Medical Reseach India Pvt Ltd | F28: 2020-21 | G28: 162167
... B34: DU Wardha | C34: Ethics committee | D34: Consultancy on Ethics in clinical studies | E34: Ethics committee | F34: 2020-21 | G34: 22000
B35: DU Wardha | C35: Yeshwantrao chavan college of engineering | D35: work for Upgrading the health Sciences Teaching Hospitals Under Nyss to NABH for the Topics of " An Automated Medicine Dispensing and Mixing Machine | E35: YCCE | F35: 2020-21 | G35: 2800000 | H35: =+G35/100000 -> 28
B36: DU Wardha | C36: Yeshwantrao chavan college of engineering | D36: Device for early defective of post-operative infection | E36: YCCE | F36: 2020-21 | G36: 2500000 | H36: =+G36/100000 -> 25
B37: DU Wardha | C37: Yeshwantrao chavan college of engineering | D37: Pocket Size cold Box Vaccine Carrier | E37: YCCE | F37: 2020-21 | G37: 1200000 | H37: =+G37/100000 -> 12
B38: DU Wardha | C38: Yeshwantrao chavan college of engineering | D38: Bedsore Preventives Devic | E38: YCCE | F38: 2020-21 | G38: 1500000 | H38: =+G38/100000 -> 15
D39: Grant Total | G39: =SUM(G4:G38) -> 18726243 | H39: =SUM(H8:H38) -> 160.85787
F41: 1497273 | G41: 1509874 | H41: =+F41-G41 -> -12601

Sheet 2019-20
C1: Revenue generated from advisory / R&D consultancy projects including Clinical trials during the year
C2: 3.5.2.1: Total amount generated from consultancy during the last year (INR in lakhs)
B5: Unit Name | C5: Name of the consultant | D5: Name of the Advisory /R&D consultancy/clinical trial project | E5: Consulting/Sponsoring agency with contact details | F5: Year | G5: Revenue generated
B6: AVBRH | C6: Ardent Clinical Reseach Srvices | D6: "A safety and efficacy of lipiodal ultra fluid in association with surgical glues during vascular embolization. A phase IV study." | E6: SIRO Clinpharm Pvt. Ltd. | F6: 2019-20 | G6: 195002
B7: AVBRH | C7: Apex Laboratories Pvt. Ltd. | D7: "A Multicentric, Open Label Randomized, phase III, Study on the safety and efficacy of sofinox gel (SODIUM FUSIDATE equivalent to FUSIDIC ACID 2%w/w) in Diabetic wound Healing." | E7: Apex Laboratories Pvt. Ltd. | F7: 2019-20 | G7: 50000
B8: AVBRH | C8: Glenmark Pharmaceuticals Ltd. | D8: "A 24-week, randomised, double-blind, double-dummy parallel-group, multi-centre, active-controlled study to evaluate efficacy and safety of remogliflozin etabonate in subjects with type-2 diabetes mellitus." | E8: Glenmark Pharmaceuticals Ltd. | F8: 2019-20 | G8: 190727
B9: AVBRH | C9: Ecron Acunova Ltd. | D9: "A PhaseII/III , Randomized, Double-Masked, Shamcontrolled trial of QPI-1007 delivered by single or multi-dose intravitreal injections to subjects with acute nonarteritic ischemic optic neuropathy (naion)." | E9: Quark Pharmaceuticals, Inc, CA 94555, USA | F9: 2019-20 | G9: 755294
B10: AVBRH | C10: GDD Experts India Pvt. Ltd. | D10: "A Multicentric, Randomized, Open Label Clinical Trial to evaluate efficacy and safety of Tapentadol Nasal Spray in comparison to tramadol immediate Release capsule and intravenous injection in patients with post-operative moderate to severe pain." | E10: SIRO Clinpharm Pvt. Ltd. | F10: 2019-20 | G10: 40382
B11: AVBRH | C11: GDD Experts India Pvt Ltd | D11: "A Phase III, Multi centre, Randomized, Double-Blind, Parallel, Placebo-Controlled Induction study of Mirikizumab in conventional-failed and Biologic-Failed Patients with Moderately to Severely active ulcerative colits." | E11: Quintiles Research India Pvt Ltd | F11: 2019-20 | G11: 518354
B12: AVBRH | C12: GDD Experts India Pvt. Ltd. | D12: "A Randomised, Double Blind, Parallel- Group, Multicentre, Phase III Study to Evaliate the Effect Of Ticagrelor Versus Placebo in Reducing the Rate of Vaso-Occlusive crises in Paediatric patients with sickle cell Disease (HESTIA3)." | E12: Astrazenca AB | F12: 2019-20 | G12: 483171
B13: AVBRH | C13: GDD Experts India Pvt. Ltd. | D13: "A Randomised, Double Blind, Placebo-Controlled, Parallel- Group, Multicentre, Comparative study to assess the efficacy and safety of spores of Enterogermina in combinatin with oral rehydration therapy (ORT) and Zinc versus placebo in combination with ORT and Zinc administered for 5days in the treaetment of acute diarrhea in children." | E13: SANOFI SYNTHELABO(INDIA) PRIVATE LTD | F13: 2019-20 | G13: 5411803
B14: AVBRH | C14: Meril Life Sciences Pvt. Ltd. | D14: "A prospective, open label and multicentric clinical study to evaluate safety and performance of CREDENCETM BRS Sirolimus eluting bioresorable peripheral scaffold system in subjects with de novo native peripherral artery lesions." | E14: Meril Life Sciences Pvt. Ltd. | F14: 2019-20 | G14: 52807
B15: AVBRH | C15: Meril Life Sciences Pvt. Ltd. | D15: "Aprospective, multi-center and open label, clinical study to evaluate the safety and performance of the CREDENCE BtK Sirolimus Eluting BioResorbable Peripheral Scaffold System in subjects with Critical Limb Ischemia following Percutaneous Transluminal Angioplasty of below the knee arteries". | E15: Meril Life Sciences Pvt. Ltd. | F15: 2019-20 | G15: 19966
B16: AVBRH | C16: Sri Ramachandra Hospital | D16: Vaso-Occlusive Crises in Paediatric Patients with Sicke Cell Disease | E16: Sri Ramachandra Hospital | F16: 2019-20 | G16: 59000
B17: Du Wardha | C17: Biological E.Ltd | D17: Consultancy on Ethics in clinical studies | E17: Biological E.Ltd | F17: 2019-20 | G17: 70000
... B21: Du Wardha | C21: Gufic Biosciences Ltd | D21: Consultancy on Ethics in clinical studies | E21: Gufic Biosciences Ltd | F21: 2019-20 | G21: 50000
B22: Du Wardha | C22: IQVIA RDS (India) Pvt Ltd | D22: Consultancy on Ethics in clinical studies | E22: IQVIA RDS (India) Pvt Ltd | F22: 2019-20 | G22: =122221+66666 -> 188887
B23: Du Wardha | C23: Kendle India Private Ltd | D23: Consultancy on Ethics in clinical studies | E23: Kendle India Private Ltd | F23: 2019-20 | G23: =11111+100000 -> 111111
B24: Du Wardha | C24: Novartis Healthcare Pvt Ltd | D24: Consultancy on Ethics in clinical studies | E24: Novartis Healthcare Pvt Ltd | F24: 2019-20 | G24: 55555
B25: Du Wardha | C25: Relinance | D25: Consultancy on Ethics in clinical studies | E25: Relinance | F25: 2019-20 | G25: 10000
B26: Du Wardha | C26: Vijendra Kirnake | D26: Consultancy on Ethics in clinical studies | E26: Vijendra Kirnake | F26: 2019-20 | G26: 20000
B27: Du Wardha | C27: Wardha Healthcare Pvt Ltd | D27: Consultancy on Ethics in clinical studies | E27: Wardha Healthcare Pvt Ltd | F27: 2019-20 | G27: 120000
B28: Du Wardha | C28: Wockhardt Ltd | D28: Consultancy on Ethics in clinical studies | E28: Wockhardt Ltd | F28: 2019-20 | G28: 7500
B29: Du Wardha | C29: Glenmark Pharmaceuticals Ltd | D29: Consultancy on Ethics in clinical studies | E29: Glenmark Pharmaceuticals Ltd | F29: 2019-20 | G29: 55555.56
B30: Du Wardha | C30: Torrent Pharmaceuticals | D30: Consultancy on Ethics in clinical studies | E30: Torrent Pharmaceuticals | F30: 2019-20 | G30: 70000
B31: Du Wardha | C31: Sanofi Pvt Ltd | D31: Consultancy on Ethics in clinical studies | E31: Sanofi Pvt Ltd | F31: 2019-20 | G31: 70000
B32: Du Wardha | C32: Nagar Yuvak Shikshan Sanstha | D32: Bio printing of skeletal tissue towards customized phalanx reconstruction and regeneration by tissue engineering approach | E32: YCCE | F32: 2019-20 | G32: 4500000
B33: Du Wardha | C33: Nagar Yuvak Shikshan Sanstha | D33: mhealth-Health workers : impact on health and wellbeing of people living in low resoures communities in inida | E33: YCCE | F33: 2019-20 | G33: 1000000
B34: Du Wardha | C34: Nagar Yuvak Shikshan Sanstha | D34: Smart farming methodologies (SFM) for sustainable the nutritional needs for mother and children under five year of age | E34: YCCE | F34: 2019-20 | G34: 2500000
E35: Grant Total | G35: =+SUM(G6:G34) -> 16750671

Sheet 2018-19
C1: Revenue generated from advisory / R&D consultancy projects including Clinical trials during the year
C2: 3.5.2.1: Total amount generated from consultancy during the last year (INR in lakhs)
B4: Unit Name | C4: Name of the consultant | D4: Name of the Advisory /R&D consultancy/clinical trial project | E4: Consulting/Sponsoring agency with contact details | F4: Year | G4: Revenue generated
B5: AVBRH | C5: Wockhardt Ltd. Aurangabad And Global Headquarterd at wockhardt towers, Mumbai | D5: "A Phase III, Multicenter, Randomised study to compare the efficacy and of levonadifloxacian (IV and oral) with linezolid (IV and oral) in acute bacterial skin and skin structure infections (ABSSSI)." | E5: WBI Wockhardt BioAG | F5: 2018-19 | G5: 298809
B6: AVBRH | C6: Ardent Clinical Reseach Srvices | D6: "A safety and efficacy of lipiodal ultra fluid in association with surgical glues during vascular embolization. A phase IV study." | E6: SIRO Clinpharm Pvt. Ltd. | F6: 2018-19 | G6: 25000
B7: DMIMS DU | C7: Accredited Consultants Pvt Ltd | D7: Consultancy on Ethics in clinical studies | E7: Accredited Consultants Pvt Ltd | F7: 2018-19 | G7: 50000
B8: DMIMS DU | C8: RBL Bank Thane | D8: Consultancy on Ethics in clinical studies | E8: RBL Bank Thane | F8: 2018-19 | G8: 50000
B9: DMIMS DU | C9: Glenmark Pharmaceuticals Ltd | D9: Consultancy on Ethics in clinical studies | E9: Glenmark Pharmaceuticals Ltd | F9: 2018-19 | G9: =5556+22222 -> 27778
B10: DMIMS DU | C10: Ercon Acunova Ltd | D10: Consultancy on Ethics in clinical studies | E10: Ercon Acunova Ltd | F10: 2018-19 | G10: =20000+2222 -> 22222
B11: DMIMS DU | C11: Ethics committee | D11: Consultancy on Ethics in clinical studies | E11: Ethics committee | F11: 2018-19 | G11: =50000+50000+59000+50000+50000+50000 -> 309000
B12: DMIMS DU | C12: Shantha Biotechnics Pvt Ltd | D12: Consultancy on Ethics in clinical studies | E12: Shantha Biotechnics Pvt Ltd | F12: 2018-19 | G12: 320000
B13: DMIMS DU | C13: IQVIA RDS (india) | D13: Consultancy on Ethics in clinical studies | E13: IQVIA RDS (india) | F13: 2018-19 | G13: 55555
B14: DMIMS DU | C14: Siro Clinpharm Pvt Ltd | D14: Consultancy on Ethics in clinical studies | E14: Siro Clinpharm Pvt Ltd | F14: 2018-19 | G14: 55555
B15: DMIMS DU | C15: Novartis Healthcare Pvt Ltd | D15: Consultancy on Ethics in clinical studies | E15: Novartis Healthcare Pvt Ltd | F15: 2018-19 | G15: 55555
B16: DMIMS DU | C16: Wockhardt Ltd | D16: Consultancy on Ethics in clinical studies | E16: Wockhardt Ltd | F16: 2018-19 | G16: 29700
B17: DMIMS DU | C17: Quintiles Research India Pvt | D17: Consultancy on Ethics in clinical studies | E17: Quintiles Research India Pvt | F17: 2018-19 | G17: 16665
B18: DMIMS DU | C18: Arceus Infotech Pvt Ltd | D18: Consultancy on Ethics in clinical studies | E18: Arceus Infotech Pvt Ltd | F18: 2018-19 | G18: 581
B19: DMIMS DU | C19: Nagar Yuvak Shikshan Sanstha | D19: Develop new generation instrumentation & ICT facility to develop ED cell | E19: Nagar Yuvak Shikshan Sanstha | F19: 2018-19 | G19: 2000000
B20: DMIMS DU | C20: Nagar Yuvak Shikshan Sanstha | D20: Facial recognition system for smart phone for recognizing patients under Thrive | E20: Nagar Yuvak Shikshan Sanstha | F20: 2018-19 | G20: 2000000
B21: DMIMS DU | C21: Nagar Yuvak Shikshan Sanstha | D21: pgrading the Health Science Teaching Hospitals Under the NYSS to NABH/JCI accreditations Level | E21: Nagar Yuvak Shikshan Sanstha | F21: 2018-19 | G21: 3000000
E22: Grant Total | G22: =+SUM(G5:G21) -> 8316420

Sheet 2017-18
C2: Revenue generated from advisory / R&D consultancy projects including Clinical trials during the year
C3: 3.5.2.1: Total amount generated from consultancy during the last year (INR in lakhs)
B5: Unit Name | C5: Name of the consultant | D5: Name of the Advisory /R&D consultancy/clinical trial project | E5: Consulting/Sponsoring agency with contact details | F5: Year | G5: Revenue generated
B6: DMIMS DU | C6: Meril Life Sciences Pvt.Ltd | D6: Consultancy on Ethics in clinical studies | E6: Meril Life Sciences Pvt.Ltd | F6: 2017-18 | G6: 118000
B7: DMIMS DU | C7: Glenmarks Pharmaceuticals Ltd | D7: Consultancy on Ethics in clinical studies | E7: Glenmarks Pharmaceuticals Ltd | F7: 2017-18 | G7: 50000
B8: DMIMS DU | C8: ECRON ACUNOVA LIMITED | D8: Consultancy on Ethics in clinical studies | E8: ECRON ACUNOVA LIMITED | F8: 2017-18 | G8: 20000
E10: Grant Total | G10: =+SUM(G6:G9) -> 188000
